BEGIN:VCALENDAR
PRODID:-//github.com/rianjs/ical.net//NONSGML ical.net 4.0//EN
VERSION:2.0
BEGIN:VEVENT
DESCRIPTION:Unsere Geschäftsstelle ist für alle Anliegen und offenen Frage
 n geöffnet.\nhttps://touren-termine.adfc.de/radveranstaltung/147962-offnu
 ngszeit-unserer-geschaftsstelle
DTEND:20250328T170000Z
DTSTAMP:20260421T120845Z
DTSTART:20250328T150000Z
LOCATION:Essen (Innenstadt)\, ADFC Essen Geschäftsstelle\, Rottstraße 5\, 
 45127 Essen
SEQUENCE:0
SUMMARY:Öffnungszeit unserer Geschäftsstelle
UID:120c9fad-82bf-47d0-b9f6-90c275bb2aba
URL:https://touren-termine.adfc.de/radveranstaltung/147962-offnungszeit-un
 serer-geschaftsstelle
END:VEVENT
END:VCALENDAR
