BEGIN:VCALENDAR
PRODID:-//github.com/rianjs/ical.net//NONSGML ical.net 4.0//EN
VERSION:2.0
BEGIN:VEVENT
DESCRIPTION:Wir beschäftigen uns mit der Verkehrsplanung im Bezirk Mitte u
 nd setzten uns dabei für den Radverkehr ein.\nhttps://touren-termine.adfc
 .de/radveranstaltung/114271-bezirksgruppe-mitte
DTEND:20240108T200000Z
DTSTAMP:20260420T231010Z
DTSTART:20240108T183000Z
LOCATION:Koppel 34-36\, 20099 Hamburg
SEQUENCE:0
SUMMARY:Bezirksgruppe Mitte
UID:7beb2fcc-18b5-4e8c-8a70-8175fb575b77
URL:https://touren-termine.adfc.de/radveranstaltung/114271-bezirksgruppe-m
 itte
END:VEVENT
END:VCALENDAR
