BEGIN:VCALENDAR
PRODID:-//github.com/rianjs/ical.net//NONSGML ical.net 4.0//EN
VERSION:2.0
BEGIN:VEVENT
DESCRIPTION:Leichte bis mittelschwere Feierabendtour in und um Bad Cannsta
 tt\nhttps://touren-termine.adfc.de/radveranstaltung/159721-cannstatter-ab
 endtour
DTEND:20250617T190000Z
DTSTAMP:20260424T143135Z
DTSTART:20250617T163000Z
LOCATION:Sulzerrainstraße 2\, 70372 Stuttgart
SEQUENCE:0
SUMMARY:Cannstatter Abendtour
UID:d76b7745-207c-4780-a6e5-5ac28122a0b1
URL:https://touren-termine.adfc.de/radveranstaltung/159721-cannstatter-abe
 ndtour
END:VEVENT
END:VCALENDAR
