BEGIN:VCALENDAR
PRODID:-//github.com/rianjs/ical.net//NONSGML ical.net 4.0//EN
VERSION:2.0
BEGIN:VEVENT
DESCRIPTION:Öffentlicher Stammtisch des Kreisverbandes Kempten-Oberallgäu\
 nhttps://touren-termine.adfc.de/radveranstaltung/184639-radlerstammtisch-
 in-kempten
DTEND:20260917T200000Z
DTSTAMP:20260424T151658Z
DTSTART:20260917T180000Z
LOCATION:swoboda alpin\, Aybühlweg 69\, 87439 Kempten (Allgäu)
SEQUENCE:0
SUMMARY:Radlerstammtisch in Kempten
UID:a7e3f44e-c29d-4748-880d-a60492dcafae
URL:https://touren-termine.adfc.de/radveranstaltung/184639-radlerstammtisc
 h-in-kempten
END:VEVENT
END:VCALENDAR
