BEGIN:VCALENDAR
PRODID:-//github.com/rianjs/ical.net//NONSGML ical.net 4.0//EN
VERSION:2.0
BEGIN:VEVENT
DESCRIPTION:Stammtisch der Ortsgruppe Neustadt/Weinstr. - Haßloch des ADFC
 \nhttps://touren-termine.adfc.de/radveranstaltung/132517-stammtisch-am-23
 052024
DTEND:20240523T190000Z
DTSTAMP:20260425T173400Z
DTSTART:20240523T160000Z
LOCATION:Im Tal\, 67435 Neustadt an der Weinstraße
SEQUENCE:0
SUMMARY:Stammtisch am 23.05.2024
UID:ea10319e-3046-4877-a7dd-114adee9fc0f
URL:https://touren-termine.adfc.de/radveranstaltung/132517-stammtisch-am-2
 3052024
END:VEVENT
END:VCALENDAR
