BEGIN:VCALENDAR
PRODID:-//github.com/rianjs/ical.net//NONSGML ical.net 4.0//EN
VERSION:2.0
BEGIN:VEVENT
DESCRIPTION:Mobilität ist ein wichtiges und gleichzeitig polarisierendes T
 hema\, die Verkehrswende ist öffentlich sehr präsent. \nWir laden ein zur
  Diskussion zu diesem Thema ins Rathaus Treptow ab 13 Uhr Raum 218.\nhttp
 s://touren-termine.adfc.de/radveranstaltung/107187-dialogforum-mobil-in-t
 reptowkopenick-23092023
DTEND:20230923T170000Z
DTSTAMP:20260424T050347Z
DTSTART:20230923T110000Z
LOCATION:Rathaus Treptow\, Neue Krugallee 4\, 12435 Berlin
SEQUENCE:0
SUMMARY:Dialogforum Mobil in Treptow-Köpenick - 23.09.2023
UID:374b5a01-48df-4659-bb4d-335191cf3fb2
URL:https://touren-termine.adfc.de/radveranstaltung/107187-dialogforum-mob
 il-in-treptowkopenick-23092023
END:VEVENT
END:VCALENDAR
