BEGIN:VCALENDAR
PRODID:-//github.com/rianjs/ical.net//NONSGML ical.net 4.0//EN
VERSION:2.0
BEGIN:VEVENT
DESCRIPTION:Eine gemütliche Radtour durch die Vier-Seen-Platte.\nZur Stärk
 ung gibt es am Ziel frisch gebackenen Butterkuchen aus dem Steinofen und 
 Getränke.\nMit kostenloser Besichtigung des Museums.\nhttps://touren-term
 ine.adfc.de/radveranstaltung/164575-49-arge-radwanderung-zum-heimatmuseum
 -wanna
DTEND:20250622T130000Z
DTSTAMP:20260421T073439Z
DTSTART:20250622T100000Z
LOCATION:Bürgerbahnhof\, Am Bahnhof 1\, 27472 Cuxhaven
SEQUENCE:0
SUMMARY:49. ARGE Radwanderung zum Heimatmuseum Wanna
UID:f8be23ea-9f71-48ba-82a4-fe7d24625fc2
URL:https://touren-termine.adfc.de/radveranstaltung/164575-49-arge-radwand
 erung-zum-heimatmuseum-wanna
END:VEVENT
END:VCALENDAR
