BEGIN:VCALENDAR
PRODID:-//github.com/rianjs/ical.net//NONSGML ical.net 4.0//EN
VERSION:2.0
BEGIN:VEVENT
DESCRIPTION:Eine Feierabendtour zum in die Pedale treten und den Alltag hi
 nter sich lassen.\nhttps://touren-termine.adfc.de/radveranstaltung/162819
 -einfach-nur-radeln
DTEND:20250508T173000Z
DTSTAMP:20260424T231506Z
DTSTART:20250508T150000Z
LOCATION:Schauturm im LGS-Gelände\, Dr.-Kurz-Str.\,\, 92318 Neumarkt in de
 r Oberpfalz
SEQUENCE:0
SUMMARY:Einfach nur radeln
UID:d7e8bcb0-eb3d-4f55-8443-3f49fa70b797
URL:https://touren-termine.adfc.de/radveranstaltung/162819-einfach-nur-rad
 eln
END:VEVENT
END:VCALENDAR
