BEGIN:VCALENDAR
PRODID:-//github.com/rianjs/ical.net//NONSGML ical.net 4.0//EN
VERSION:2.0
BEGIN:VEVENT
DESCRIPTION:Der ADFC Hamburg e.V. gibt Tipps zur Navigation und informiert
  über Radtouren sowie seine Arbeit\, speziell im Bezirk Eimsbüttel. Dazu 
 gibt's Fahrrad-Codierung als Diebstahlschutz.\nhttps://touren-termine.adf
 c.de/radveranstaltung/160178-adfc-hamburg-im-buchereck-niendorf-nord
DTEND:20250426T120000Z
DTSTAMP:20260420T232900Z
DTSTART:20250426T080000Z
LOCATION:Nordalbingerweg 15\, 22455 Hamburg
SEQUENCE:0
SUMMARY:ADFC Hamburg im Büchereck Niendorf Nord
UID:b9fb9d53-559e-44b0-a89c-f869fc7a580f
URL:https://touren-termine.adfc.de/radveranstaltung/160178-adfc-hamburg-im
 -buchereck-niendorf-nord
END:VEVENT
END:VCALENDAR
