BEGIN:VCALENDAR
PRODID:-//github.com/rianjs/ical.net//NONSGML ical.net 4.0//EN
VERSION:2.0
BEGIN:VEVENT
DESCRIPTION:Interessierte Fahrradfreunde sind zum Aktiventreffen herzlich 
 willkommen!\nhttps://touren-termine.adfc.de/radveranstaltung/149907-adfc-
 aktiventreffen
DTEND:20250220T193000Z
DTSTAMP:20260420T150020Z
DTSTART:20250220T173000Z
LOCATION:Alsenstraße 27\, 44789 Bochum
SEQUENCE:0
SUMMARY:ADFC Aktiventreffen
UID:ee5ebd24-ccf6-458d-b8aa-24fac9b823c5
URL:https://touren-termine.adfc.de/radveranstaltung/149907-adfc-aktiventre
 ffen
END:VEVENT
END:VCALENDAR
