BEGIN:VCALENDAR
PRODID:-//github.com/rianjs/ical.net//NONSGML ical.net 4.0//EN
VERSION:2.0
BEGIN:VEVENT
DESCRIPTION:Leichte bis mittelschwere Feierabendtour in und um Bad Cannsta
 tt\nhttps://touren-termine.adfc.de/radveranstaltung/131253-cannstatter-ab
 endtour
DTEND:20240917T190000Z
DTSTAMP:20260423T021654Z
DTSTART:20240917T163000Z
LOCATION:Sulzerrainstraße 2\, 70372 Stuttgart
SEQUENCE:0
SUMMARY:Cannstatter Abendtour
UID:945b956d-8e4a-4604-91b3-e93dc2119de9
URL:https://touren-termine.adfc.de/radveranstaltung/131253-cannstatter-abe
 ndtour
END:VEVENT
END:VCALENDAR
