BEGIN:VCALENDAR
PRODID:-//github.com/rianjs/ical.net//NONSGML ical.net 4.0//EN
VERSION:2.0
BEGIN:VEVENT
DESCRIPTION:Öffentlicher Stammtisch des Kreisverbandes Kempten-Oberallgäu\
 nhttps://touren-termine.adfc.de/radveranstaltung/159753-radlerstammtisch-
 in-kempten
DTEND:20250717T200000Z
DTSTAMP:20260424T152511Z
DTSTART:20250717T180000Z
LOCATION:swoboda alpin\, Aybühlweg 69\, 87439 Kempten (Allgäu)
SEQUENCE:0
SUMMARY:Radlerstammtisch in Kempten
UID:32c0e55c-af73-426e-95a7-fc9eccdbe0c8
URL:https://touren-termine.adfc.de/radveranstaltung/159753-radlerstammtisc
 h-in-kempten
END:VEVENT
END:VCALENDAR
