BEGIN:VCALENDAR
PRODID:-//github.com/rianjs/ical.net//NONSGML ical.net 4.0//EN
VERSION:2.0
BEGIN:VEVENT
DESCRIPTION:Die Bezirksgruppe Altona setzt sich für den Radverkehr in alle
 n Straßen und Stadtteilen von Rissen bis Sternschanze ein.\nhttps://toure
 n-termine.adfc.de/radveranstaltung/132568-bezirksgruppe-altona
DTEND:20251217T200000Z
DTSTAMP:20260420T231416Z
DTSTART:20251217T180000Z
LOCATION:Flavour Court im Othmarscher Tennis-Club\, 22763 Hamburg\, Othmar
 schen
SEQUENCE:0
SUMMARY:Bezirksgruppe Altona
UID:ec6be9ad-b3b2-4546-99bd-0a685cc5a5fb
URL:https://touren-termine.adfc.de/radveranstaltung/132568-bezirksgruppe-a
 ltona
END:VEVENT
END:VCALENDAR
