BEGIN:VCALENDAR
PRODID:-//github.com/rianjs/ical.net//NONSGML ical.net 4.0//EN
VERSION:2.0
BEGIN:VEVENT
DESCRIPTION:Vor dem schlafen gehn noch ne Runde drehn. Einkehr nach Ende d
 er Tour möglich. Um Anmeldung wird gebeten.\nhttps://touren-termine.adfc.
 de/radveranstaltung/153387-feierabendtour
DTEND:20250520T180000Z
DTSTAMP:20260421T183545Z
DTSTART:20250520T160000Z
LOCATION:Herzogin-Eleonore-Allee / Am Teich im Französischen Garten\, 2922
 1 Celle
SEQUENCE:0
SUMMARY:Feierabendtour
UID:1a5901ab-c0d0-4b90-b0ca-3cb48a562177
URL:https://touren-termine.adfc.de/radveranstaltung/153387-feierabendtour
END:VEVENT
END:VCALENDAR
