BEGIN:VCALENDAR
PRODID:-//github.com/rianjs/ical.net//NONSGML ical.net 4.0//EN
VERSION:2.0
BEGIN:VEVENT
DESCRIPTION:Die Tour führt von Feuerbach über Ludwigsburg und vorbei  Marb
 ach nach Winnenden. Von dort geht es über Schornbach nach Schorndorf und 
 schließlich vom Remstal aus über Fellbach nach Bad Cannstatt.\nhttps://to
 uren-termine.adfc.de/radveranstaltung/129604-von-feuerbach-uber-schorndor
 f-nach-bad-cannstatt
DTEND:20240526T150000Z
DTSTAMP:20260424T144134Z
DTSTART:20240526T070000Z
LOCATION:Wiener Platz\, 70469 Stuttgart
SEQUENCE:0
SUMMARY:Von Feuerbach über Schorndorf  nach Bad Cannstatt
UID:c8ba7b48-ee95-4c2f-8c5a-de13e6af971f
URL:https://touren-termine.adfc.de/radveranstaltung/129604-von-feuerbach-u
 ber-schorndorf-nach-bad-cannstatt
END:VEVENT
END:VCALENDAR
