BEGIN:VCALENDAR
PRODID:-//github.com/rianjs/ical.net//NONSGML ical.net 4.0//EN
VERSION:2.0
BEGIN:VEVENT
DESCRIPTION:Im Frühlingserwachen zum Rothsee. Gut gelaunt radeln wir mitte
 n hinein in den Sonnenaufgang zum Picknick am Rothsee. Kurz vor Ende der 
 Tour kehren wir in einem Cafe zu Cafe\, Kuchen oder Frühstück ein.\nhttps
 ://touren-termine.adfc.de/radveranstaltung/191396-morgenstund-hat-gold-im
 -mund
DTEND:20260502T110000Z
DTSTAMP:20260423T165927Z
DTSTART:20260502T034500Z
LOCATION:Nürnberg\, S-Bahn-Station Eibach\, 90451 Nürnberg
SEQUENCE:0
SUMMARY:Morgenstund' hat Gold im Mund
UID:aa10615d-33fe-4dd7-89b1-7c2859e094d8
URL:https://touren-termine.adfc.de/radveranstaltung/191396-morgenstund-hat
 -gold-im-mund
END:VEVENT
END:VCALENDAR
