BEGIN:VCALENDAR
PRODID:-//github.com/rianjs/ical.net//NONSGML ical.net 4.0//EN
VERSION:2.0
BEGIN:VEVENT
DESCRIPTION:Wir feiern Baumblüte\, auch wenn sie vorbei sein sollte. Eine 
 schöne Frühlingstour durch das Nuthe-Nieplitz-Gebiet. Von Wannsee über de
 n idyllischen Ort Blankensee nach Trebbin. Ende Bhf. Trebbin.\nhttps://to
 uren-termine.adfc.de/radveranstaltung/163372-wir-feiern-baumblute
DTEND:20250503T160000Z
DTSTAMP:20260424T231049Z
DTSTART:20250503T080000Z
LOCATION:Bhf. Berlin Wannsee\, Vorplatz (Kronprinzessinnenweg)\, 14109 Ber
 lin
SEQUENCE:0
SUMMARY:Wir feiern Baumblüte
UID:f9809392-ff1f-41d2-9cdf-b388449a6eca
URL:https://touren-termine.adfc.de/radveranstaltung/163372-wir-feiern-baum
 blute
END:VEVENT
END:VCALENDAR
