BEGIN:VCALENDAR
PRODID:-//github.com/rianjs/ical.net//NONSGML ical.net 4.0//EN
VERSION:2.0
BEGIN:VEVENT
DESCRIPTION:Organisiert vom Forum für Umwelt und gerechte Entwicklung (FUg
 E) und der Volkshochschule Hamm (VHS Hamm) präsentieren über 20 Ausstelle
 r iihre Ideen für mehr Nachhaltigkeit im Alltag.\nhttps://touren-termine.
 adfc.de/radveranstaltung/120444-2-hammer-nachhaltigkeits-und-mitmachmesse
DTEND:20240217T150000Z
DTSTAMP:20260422T000119Z
DTSTART:20240217T090000Z
LOCATION:Platz der Deutschen Einheit\, 59065 Hamm
SEQUENCE:0
SUMMARY:2. Hammer Nachhaltigkeits- und Mitmachmesse
UID:261fc072-e445-4a3e-ad96-152542e8a1a7
URL:https://touren-termine.adfc.de/radveranstaltung/120444-2-hammer-nachha
 ltigkeits-und-mitmachmesse
END:VEVENT
END:VCALENDAR
