BEGIN:VCALENDAR
PRODID:-//github.com/rianjs/ical.net//NONSGML ical.net 4.0//EN
VERSION:2.0
BEGIN:VEVENT
DESCRIPTION:Der Neckarradweg ist einer der schönsten Radstrecken in Deutsc
 hland\, durch malerische Landschaften\, historische Städte und Weinregion
 en.\nhttps://touren-termine.adfc.de/radveranstaltung/175415-4-tage-neckar
 -teil-ii
DTEND;VALUE=DATE:20260730
DTSTAMP:20260425T184222Z
DTSTART;VALUE=DATE:20260727
LOCATION:Buronstraße\, 87600 Kaufbeuren
SEQUENCE:0
SUMMARY:4 Tage Neckar Teil II
UID:26842680-265d-4f32-98ec-5e1b51b2be98
URL:https://touren-termine.adfc.de/radveranstaltung/175415-4-tage-neckar-t
 eil-ii
END:VEVENT
END:VCALENDAR
