BEGIN:VCALENDAR
PRODID:-//github.com/rianjs/ical.net//NONSGML ical.net 4.0//EN
VERSION:2.0
BEGIN:VEVENT
DESCRIPTION:In der Bürgergaststätte Sigmertshausen treffen wir die Radler 
 aus Indersdorf.\nhttps://touren-termine.adfc.de/radveranstaltung/99981-si
 gmertshausen
DTEND:20230809T190000Z
DTSTAMP:20260421T100818Z
DTSTART:20230809T160000Z
LOCATION:Bike & Ride Fahrradparkhaus\, 85221 Dachau
SEQUENCE:0
SUMMARY:Sigmertshausen
UID:56af256f-686b-4105-a150-7ade45b83965
URL:https://touren-termine.adfc.de/radveranstaltung/99981-sigmertshausen
END:VEVENT
END:VCALENDAR
