BEGIN:VCALENDAR
PRODID:-//github.com/rianjs/ical.net//NONSGML ical.net 4.0//EN
VERSION:2.0
BEGIN:VEVENT
DESCRIPTION:Dir ist kinderfreundlicher Radverkehr wichtig? Wege zur Kita u
 nd zur Schule sollen sicherer sein\, dein Alltag im Berliner Straßenverke
 hr entspannter? Schau einfach mal rein!\nhttps://touren-termine.adfc.de/r
 adveranstaltung/164746-treffen-der-ag-kinderfahrenrad
DTEND:20251021T200000Z
DTSTAMP:20260424T020638Z
DTSTART:20251021T180000Z
LOCATION:ADFC Velokiez\, Möckernstraße 47\, 10963 Berlin
SEQUENCE:0
SUMMARY:Treffen der AG KinderFahrenRad
UID:3cc59f54-a677-4d19-9922-6c9dc731463c
URL:https://touren-termine.adfc.de/radveranstaltung/164746-treffen-der-ag-
 kinderfahrenrad
END:VEVENT
END:VCALENDAR
