BEGIN:VCALENDAR
PRODID:-//github.com/rianjs/ical.net//NONSGML ical.net 4.0//EN
VERSION:2.0
BEGIN:VEVENT
DESCRIPTION:3-stündiger Kurs zur Unterweisung in Fahrtechnik und Fahrsiche
 rheit mit dem Pedelec / E-Bike.\nPraktische Übungen von Gleichgewicht\, S
 chalten\, Bremsen\, Kurven fahren\, etc.\nhttps://touren-termine.adfc.de/
 radveranstaltung/188134-fahrsicherheitskurs-fur-senioren-mit-ebikes
DTEND:20260618T143000Z
DTSTAMP:20260421T102708Z
DTSTART:20260618T113000Z
LOCATION:S-Bahnhof Feldafing\, 82340 Landkreis Starnberg
SEQUENCE:0
SUMMARY:Fahrsicherheitskurs für Senioren mit E-Bikes
UID:7b7b722b-8bea-48ed-be94-5308ceb8d06b
URL:https://touren-termine.adfc.de/radveranstaltung/188134-fahrsicherheits
 kurs-fur-senioren-mit-ebikes
END:VEVENT
END:VCALENDAR
