BEGIN:VCALENDAR
PRODID:-//github.com/rianjs/ical.net//NONSGML ical.net 4.0//EN
VERSION:2.0
BEGIN:VEVENT
DESCRIPTION:Die Gelegenheit bei einer nächtlichen Radtour in der reizvolle
 n Umgebung von Celle den um 22.37 Uhr MEZ  zusehenden Vollmond (im Juli a
 uch Heumond genannt ) zu bestaunen.\nhttps://touren-termine.adfc.de/radve
 ranstaltung/168318-vollmondtour
DTEND:20250710T215500Z
DTSTAMP:20260421T114821Z
DTSTART:20250710T194500Z
LOCATION:Herzogin-Eleonore-Allee Französischer Garten An Teich\, 29221 Cel
 le
SEQUENCE:0
SUMMARY:Vollmondtour
UID:1ade39d0-b9e0-4267-ac76-a3bb2b8077c6
URL:https://touren-termine.adfc.de/radveranstaltung/168318-vollmondtour
END:VEVENT
END:VCALENDAR
