BEGIN:VCALENDAR
PRODID:-//github.com/rianjs/ical.net//NONSGML ical.net 4.0//EN
VERSION:2.0
BEGIN:VEVENT
DESCRIPTION:Die Tour ist für Radler ohne Unterstützung und gemütlich fahre
 nde E-Biker\nDie Strecken werden je nach Wetterlage kurzfristig festgeleg
 t\nEinkehr unterwegs oder in Forchheim\nhttps://touren-termine.adfc.de/ra
 dveranstaltung/113077-radler-ohne-unterstutzung-und-ebiker
DTEND:20240411T153000Z
DTSTAMP:20260421T101133Z
DTSTART:20240411T120000Z
LOCATION:Nürnberger Tor\, 91301 Forchheim
SEQUENCE:0
SUMMARY:Radler ohne Unterstützung und E-Biker
UID:5cf3c15e-d0dd-4f06-a656-8dcca9b2029e
URL:https://touren-termine.adfc.de/radveranstaltung/113077-radler-ohne-unt
 erstutzung-und-ebiker
END:VEVENT
END:VCALENDAR
