BEGIN:VCALENDAR
PRODID:-//github.com/rianjs/ical.net//NONSGML ical.net 4.0//EN
VERSION:2.0
BEGIN:VEVENT
DESCRIPTION:Feierabendtour ins Blaue! Wohin\, steht noch nicht fest. Ansch
 ließende Einkehr optional.\nhttps://touren-termine.adfc.de/radveranstaltu
 ng/170766-feierabendtour-ins-blaue
DTEND:20250909T180000Z
DTSTAMP:20260423T031209Z
DTSTART:20250909T160000Z
LOCATION:Bad Berleburg Bahnhof\, 57319 Bad Berleburg
SEQUENCE:0
SUMMARY:Feierabendtour ins Blaue
UID:dcbae1ba-0e20-41b1-8100-2c7a861b149e
URL:https://touren-termine.adfc.de/radveranstaltung/170766-feierabendtour-
 ins-blaue
END:VEVENT
END:VCALENDAR
