BEGIN:VCALENDAR
PRODID:-//github.com/rianjs/ical.net//NONSGML ical.net 4.0//EN
VERSION:2.0
BEGIN:VEVENT
DESCRIPTION:Tagestour über Pyrbaum - Allersberg zum Rothsee\nhttps://toure
 n-termine.adfc.de/radveranstaltung/168863-tagestour-zum-schonen-rothsee
DTEND:20250914T163000Z
DTSTAMP:20260425T021240Z
DTSTART:20250914T073000Z
LOCATION:Schauturm LGS\, 92318 Neumarkt in der Oberpfalz
SEQUENCE:0
SUMMARY:Tagestour zum schönen Rothsee
UID:e934d347-fe38-4df6-b73d-520a79e1cd47
URL:https://touren-termine.adfc.de/radveranstaltung/168863-tagestour-zum-s
 chonen-rothsee
END:VEVENT
END:VCALENDAR
