BEGIN:VCALENDAR
PRODID:-//github.com/rianjs/ical.net//NONSGML ical.net 4.0//EN
VERSION:2.0
BEGIN:VEVENT
DESCRIPTION:Feierabendtouren in die nähere Umgebung\, Distanz 20 - 30 km\,
  oft mit Einkehr.\nhttps://touren-termine.adfc.de/radveranstaltung/116323
 -gilchinger-feierabendtour
DTEND:20240426T180000Z
DTSTAMP:20260425T145811Z
DTSTART:20240426T150000Z
LOCATION:Marktplatz\, 82205 Gilching
SEQUENCE:0
SUMMARY:Gilchinger Feierabendtour
UID:18bbd795-e933-4d3e-b1e4-e9f57e8011df
URL:https://touren-termine.adfc.de/radveranstaltung/116323-gilchinger-feie
 rabendtour
END:VEVENT
END:VCALENDAR
