BEGIN:VCALENDAR
PRODID:-//github.com/rianjs/ical.net//NONSGML ical.net 4.0//EN
VERSION:2.0
BEGIN:VEVENT
DESCRIPTION:Pedelec-Tour am Sa.12.10. um11.00 ab Kreuztal: Der ostbergisch
 e Höhenweg\, der Aggertal-Bahnradweg und die Jausenstation Backhaus auf ü
 berwiegend kleinen Straßen und Feldwegen. Anmeldung erforderlich.\nhttps:
 //touren-termine.adfc.de/radveranstaltung/140532-herbsttour-ins-backhaus
DTEND:20241012T150000Z
DTSTAMP:20260422T234657Z
DTSTART:20241012T090000Z
LOCATION:Marburgerstraße\, Roter Platz\, 57223 Kreuztal
SEQUENCE:0
SUMMARY:Herbsttour ins Backhaus
UID:1d1a6615-5e47-4e42-9db6-d521daec14bd
URL:https://touren-termine.adfc.de/radveranstaltung/140532-herbsttour-ins-
 backhaus
END:VEVENT
END:VCALENDAR
