BEGIN:VCALENDAR
PRODID:-//github.com/rianjs/ical.net//NONSGML ical.net 4.0//EN
VERSION:2.0
BEGIN:VEVENT
DESCRIPTION:Wir wollen mit allen Radfahrinteressierten ins Gespräch kommen
 \, uns über alles rund ums Radfahren in Bad Bodenteich austauschen und et
 was über den Zustand der Radinfrastruktur und Radwege erfahren.\nhttps://
 touren-termine.adfc.de/radveranstaltung/135251-stammtisch-fur-adfcler-und
 -radfahrinteressierte
DTEND:20240724T190000Z
DTSTAMP:20260424T160436Z
DTSTART:20240724T170000Z
LOCATION:Piepers Gasthaus am Bahnhof\, Bahnhofstr. 23\, 29389 Bad Bodentei
 ch
SEQUENCE:0
SUMMARY:Stammtisch für ADFC‘ler und Radfahrinteressierte
UID:7d5e6d49-c2a2-4480-ba86-2dae80dce248
URL:https://touren-termine.adfc.de/radveranstaltung/135251-stammtisch-fur-
 adfcler-und-radfahrinteressierte
END:VEVENT
END:VCALENDAR
