BEGIN:VCALENDAR
PRODID:-//github.com/rianjs/ical.net//NONSGML ical.net 4.0//EN
VERSION:2.0
BEGIN:VEVENT
DESCRIPTION:Von Hameln über den Weserradweg nach Bad Pyrmont. Einkehr in d
 er Sennhütte zu Kaffee und Kuchen (superlecker). Über Aerzen zurück nach 
 Hameln.\nhttps://touren-termine.adfc.de/radveranstaltung/142469-zur-sennh
 utte-in-bad-pyrmont
DTEND:20250802T160000Z
DTSTAMP:20260423T144032Z
DTSTART:20250802T080000Z
LOCATION:Pfortmühle an der blauen Brücke\,\, 31785 Hameln
SEQUENCE:0
SUMMARY:Zur Sennhütte in Bad Pyrmont
UID:0a1d0c1c-bf2a-49a2-8cd2-66bddc3e45e7
URL:https://touren-termine.adfc.de/radveranstaltung/142469-zur-sennhutte-i
 n-bad-pyrmont
END:VEVENT
END:VCALENDAR
