BEGIN:VCALENDAR
PRODID:-//github.com/rianjs/ical.net//NONSGML ical.net 4.0//EN
VERSION:2.0
BEGIN:VEVENT
DESCRIPTION:Von Stadthagen über Sachsenhagen\, Loccum\, Müsleringen nach D
 ierstorf zum Hof Berghorn. Nach einer Kaffepause geht  es zurück über Win
 dheim\, Bierde und Niedernwöhren in Richtung  Stadthagen.\nhttps://touren
 -termine.adfc.de/radveranstaltung/178538-hof-berghorn-in-dierstorf
DTEND:20260823T150000Z
DTSTAMP:20260420T174758Z
DTSTART:20260823T080000Z
LOCATION:Marktplatz \,Marktbrunnen\, 31655 Stadthagen
SEQUENCE:0
SUMMARY:Hof Berghorn in Dierstorf
UID:ef46d0f6-04ef-4d89-bfda-835515146c33
URL:https://touren-termine.adfc.de/radveranstaltung/178538-hof-berghorn-in
 -dierstorf
END:VEVENT
END:VCALENDAR
