BEGIN:VCALENDAR
PRODID:-//github.com/rianjs/ical.net//NONSGML ical.net 4.0//EN
VERSION:2.0
BEGIN:VEVENT
DESCRIPTION:Wir beschäftigen uns mit der Verkehrsplanung im Bezirk Mitte u
 nd setzten uns dabei für den Radverkehr ein.\nhttps://touren-termine.adfc
 .de/radveranstaltung/126863-bezirksgruppe-mitte
DTEND:20241007T190000Z
DTSTAMP:20260420T231012Z
DTSTART:20241007T170000Z
LOCATION:Koppel 34-36\, 20099 Hamburg
SEQUENCE:0
SUMMARY:Bezirksgruppe Mitte
UID:cbcc88cd-b832-43f4-9f65-0256ce2733d7
URL:https://touren-termine.adfc.de/radveranstaltung/126863-bezirksgruppe-m
 itte
END:VEVENT
END:VCALENDAR
