BEGIN:VCALENDAR
PRODID:-//github.com/rianjs/ical.net//NONSGML ical.net 4.0//EN
VERSION:2.0
BEGIN:VEVENT
DESCRIPTION:Niemand ist perfekt\, das Radwegesystem in Cuxhaven schon gar 
 nicht!\nWir unterhalten uns über alle Dinge rund ums Fahrrad und nehmen W
 ünsche und Anregungen an.\nhttps://touren-termine.adfc.de/radveranstaltun
 g/142239-kaffeestunde
DTEND:20250303T160000Z
DTSTAMP:20260421T022728Z
DTSTART:20250303T140000Z
LOCATION:Bürgerbahnhof\, Am Bahnhof 1\, 27472 Cuxhaven
SEQUENCE:0
SUMMARY:Kaffeestunde
UID:303f515d-bf60-4eac-a15d-c2cd0d102af7
URL:https://touren-termine.adfc.de/radveranstaltung/142239-kaffeestunde
END:VEVENT
END:VCALENDAR
