BEGIN:VCALENDAR
PRODID:-//github.com/rianjs/ical.net//NONSGML ical.net 4.0//EN
VERSION:2.0
BEGIN:VEVENT
DESCRIPTION:o.A. = ohne Anmeldung. Einfach kommen und mitfahren!\nhttps://
 touren-termine.adfc.de/radveranstaltung/144820-oa-tour-apfelfest-willyspa
 hnparkahlem
DTEND:20250913T160000Z
DTSTAMP:20260424T173027Z
DTSTART:20250913T110000Z
LOCATION:Innenhof Rathaus/Post: Marktplatz 1\, 30853 Langenhagen
SEQUENCE:0
SUMMARY:o.A.: 🚲-Tour Apfelfest Willy-Spahn-Park/AhlemⓇⓈ
UID:5afefacc-ad9e-4de9-9d4b-ea6d884cfab7
URL:https://touren-termine.adfc.de/radveranstaltung/144820-oa-tour-apfelfe
 st-willyspahnparkahlem
END:VEVENT
END:VCALENDAR
