BEGIN:VCALENDAR
PRODID:-//github.com/rianjs/ical.net//NONSGML ical.net 4.0//EN
VERSION:2.0
BEGIN:VEVENT
DESCRIPTION:Ein Empfang der Stadt Burgwedel mit Grußwort der Bürgermeister
 in Ortrud Wendt und Beiträgen der Koordinatoren Jana Bertke (Stadt Burgwe
 del) und Herbert Bastian (ADFC BUW).\nhttps://touren-termine.adfc.de/radv
 eranstaltung/171536-ehrung-der-burgwedeler-stadtradler
DTEND:20250910T160000Z
DTSTAMP:20260423T105630Z
DTSTART:20250910T150000Z
LOCATION:Fuhrberger Straße 4\, 30938 Burgwedel
SEQUENCE:0
SUMMARY:Ehrung der Burgwedeler Stadtradler
UID:d0e7fee4-3665-4330-88eb-5242f62b2588
URL:https://touren-termine.adfc.de/radveranstaltung/171536-ehrung-der-burg
 wedeler-stadtradler
END:VEVENT
END:VCALENDAR
