BEGIN:VCALENDAR
PRODID:-//github.com/rianjs/ical.net//NONSGML ical.net 4.0//EN
VERSION:2.0
BEGIN:VEVENT
DESCRIPTION:Fahrraddemo für eine kinder- und klimafreundlichere Verkehrpol
 itik in Kaufbeuren. Kinder ab etwa 5 Jahren können selbst mitradeln. Tref
 fpunkt um 13 Uhr in der Kaiser-Max-Straße vor dem Rathaus.\nhttps://toure
 n-termine.adfc.de/radveranstaltung/131387-demo-fahrradparade-strassen-sin
 d-fur-alle-da
DTEND:20240511T160000Z
DTSTAMP:20260419T155729Z
DTSTART:20240511T110000Z
LOCATION:Kaiser-Max-Straße\, 87600 Kaufbeuren
SEQUENCE:0
SUMMARY:Demo- FAHRRADPARADE - Straßen sind für alle da
UID:facd5b0f-50d5-42ee-942d-06541814d483
URL:https://touren-termine.adfc.de/radveranstaltung/131387-demo-fahrradpar
 ade-strassen-sind-fur-alle-da
END:VEVENT
END:VCALENDAR
