BEGIN:VCALENDAR
PRODID:-//github.com/rianjs/ical.net//NONSGML ical.net 4.0//EN
VERSION:2.0
BEGIN:VEVENT
DESCRIPTION:Alle Mitglieder*innen sind herzlich eingeladen zum gemütlichen
  Termin auf der "Sehnsucht".\nBesprochen werden aktuelle Radthemen\, sowi
 e die erfolgten und geplanten Touren.\nhttps://touren-termine.adfc.de/rad
 veranstaltung/135625-treffen-der-oranienburger-ortsgruppe
DTEND:20240717T190000Z
DTSTAMP:20260425T202156Z
DTSTART:20240717T160000Z
LOCATION:Liegeplatz "Sehnsucht"\, 16515 Oranienburg
SEQUENCE:0
SUMMARY:Treffen der Oranienburger Ortsgruppe
UID:fa4cc693-83c7-45ec-8bc8-296f93f5254a
URL:https://touren-termine.adfc.de/radveranstaltung/135625-treffen-der-ora
 nienburger-ortsgruppe
END:VEVENT
END:VCALENDAR
