BEGIN:VCALENDAR
PRODID:-//github.com/rianjs/ical.net//NONSGML ical.net 4.0//EN
VERSION:2.0
BEGIN:VEVENT
DESCRIPTION:Radfahrer*innen treffen sich anscheinend zufällig und unorgani
 siert.\nhttps://touren-termine.adfc.de/radveranstaltung/133694-critical-m
 ass-hamburg
DTEND:20240531T200000Z
DTSTAMP:20260420T230743Z
DTSTART:20240531T170000Z
LOCATION:Bert-Kaempfert-Platz\, 22305 Hamburg
SEQUENCE:0
SUMMARY:Critical Mass Hamburg
UID:91a9b3a8-dfa3-4be0-9a7b-c46963d86729
URL:https://touren-termine.adfc.de/radveranstaltung/133694-critical-mass-h
 amburg
END:VEVENT
END:VCALENDAR
