BEGIN:VCALENDAR
PRODID:-//github.com/rianjs/ical.net//NONSGML ical.net 4.0//EN
VERSION:2.0
BEGIN:VEVENT
DESCRIPTION:Der Wunnenstein ist die weithin sichtbare Landmarke des Bottwa
 rtals und unser Ziel. Der Rückweg führt uns über Beilstein nach Oberstenf
 eld wieder zurück an Bottwar\, Murr und Neckar.\nhttps://touren-termine.a
 dfc.de/radveranstaltung/147250-der-wunnenstein-pedelectour
DTEND:20250411T150000Z
DTSTAMP:20260423T190346Z
DTSTART:20250411T110000Z
LOCATION:Schiffsanlegestelle Hoheneck\, 71642 Ludwigsburg
SEQUENCE:0
SUMMARY:Der Wunnenstein - Pedelec-Tour
UID:3ffde1f7-5d0b-487c-ba72-740ba8f865e5
URL:https://touren-termine.adfc.de/radveranstaltung/147250-der-wunnenstein
 -pedelectour
END:VEVENT
END:VCALENDAR
