BEGIN:VCALENDAR
PRODID:-//github.com/rianjs/ical.net//NONSGML ical.net 4.0//EN
VERSION:2.0
BEGIN:VEVENT
DESCRIPTION:Du willst die Radfahrsituation in Korschenbroich verbessern? D
 ann bist du hier richtig.\nhttps://touren-termine.adfc.de/radveranstaltun
 g/157588-arbeitskreis-mobilitat-und-sicherheit
DTEND:20250320T193000Z
DTSTAMP:20260423T151801Z
DTSTART:20250320T173000Z
LOCATION:Don-Bosco-Straße 4-6\, 41352 Korschenbroich
SEQUENCE:0
SUMMARY:Arbeitskreis Mobilität und Sicherheit
UID:0a42fb84-5c86-4620-8a9a-c31b0c14b54a
URL:https://touren-termine.adfc.de/radveranstaltung/157588-arbeitskreis-mo
 bilitat-und-sicherheit
END:VEVENT
END:VCALENDAR
