BEGIN:VCALENDAR
PRODID:-//github.com/rianjs/ical.net//NONSGML ical.net 4.0//EN
VERSION:2.0
BEGIN:VEVENT
DESCRIPTION:Dies ist eine sportliche und bergige Tour durch die Fränkische
  für E-Biker. Ich möchte Sport und E-Bike kombinieren\nhttps://touren-ter
 mine.adfc.de/radveranstaltung/179661-bergige-tour-durch-die-frankische
DTEND;VALUE=DATE:20261231
DTSTAMP:20260421T102907Z
DTSTART;VALUE=DATE:20261231
LOCATION:Nürnberger Tor\, 91301 Forchheim
SEQUENCE:0
SUMMARY:Bergige Tour durch die Fränkische
UID:6a9a982a-87c9-4824-9133-bf4774bd6a36
URL:https://touren-termine.adfc.de/radveranstaltung/179661-bergige-tour-du
 rch-die-frankische
END:VEVENT
END:VCALENDAR
