BEGIN:VCALENDAR
PRODID:-//github.com/rianjs/ical.net//NONSGML ical.net 4.0//EN
VERSION:2.0
BEGIN:VEVENT
DESCRIPTION:Diese Freitagstouren werden von verschiedenen Tourguides in mi
 ttlerem Tempo (15-17 km/h) angeboten und dauern ca. 2-3 Stunden. VORAUSSE
 TZUNG: Anmeldung und Spaß am gemeinsamen Fahrradfahren.\nhttps://touren-t
 ermine.adfc.de/radveranstaltung/191294-feierabendtour
DTEND:20260904T190000Z
DTSTAMP:20260423T002528Z
DTSTART:20260904T160000Z
LOCATION:Neuenhausplatz 24\, 40699 Erkrath
SEQUENCE:0
SUMMARY:Feierabendtour
UID:8f174c1c-0032-4775-a896-252f76332844
URL:https://touren-termine.adfc.de/radveranstaltung/191294-feierabendtour
END:VEVENT
END:VCALENDAR
