BEGIN:VCALENDAR
PRODID:-//github.com/rianjs/ical.net//NONSGML ical.net 4.0//EN
VERSION:2.0
BEGIN:VEVENT
DESCRIPTION:Ca. 15 km\, 15 km/h\, Start: K37 - Waldhausener Str. 37\, 17.0
 5.2026\, 14:00 Uhr. Rahmenveranstaltung der diesjährigen internationalen 
 Kunstausstellung VERBUNDEN - ENSEMBLE - JUNTOS.\nhttps://touren-termine.a
 dfc.de/radveranstaltung/198762-artride
DTEND:20260517T150000Z
DTSTAMP:20260424T200539Z
DTSTART:20260517T120000Z
LOCATION:Waldhausener Straße\, 41061 Mönchengladbach
SEQUENCE:0
SUMMARY:ArtRIDE
UID:143dcf84-40f9-4c78-909f-fcb58c6e3854
URL:https://touren-termine.adfc.de/radveranstaltung/198762-artride
END:VEVENT
END:VCALENDAR
