BEGIN:VCALENDAR
PRODID:-//github.com/rianjs/ical.net//NONSGML ical.net 4.0//EN
VERSION:2.0
BEGIN:VEVENT
DESCRIPTION:Der ADFC Neumarkt codiert Fahrräder auf der Gewerbeschau in Se
 ngenthal\nhttps://touren-termine.adfc.de/radveranstaltung/155136-fahrradc
 odierung-in-sengenthal
DTEND:20250316T150000Z
DTSTAMP:20260424T231216Z
DTSTART:20250316T090000Z
LOCATION:Alte Bundesstraße 1\, 92369 Landkreis Neumarkt in der Oberpfalz
SEQUENCE:0
SUMMARY:Fahrradcodierung in Sengenthal
UID:a122122f-6fb2-4623-8cd4-9c3ceddf566d
URL:https://touren-termine.adfc.de/radveranstaltung/155136-fahrradcodierun
 g-in-sengenthal
END:VEVENT
END:VCALENDAR
