BEGIN:VCALENDAR
PRODID:-//github.com/rianjs/ical.net//NONSGML ical.net 4.0//EN
VERSION:2.0
BEGIN:VEVENT
DESCRIPTION:Von Wannsee nach Werder zum Bestaunen der Obstbaumblüte entlan
 g des Werderaner Obstweges. Ende Bhf. Groß Kreutz.\nhttps://touren-termin
 e.adfc.de/radveranstaltung/129922-wir-feiern-baumblute-1
DTEND:20240421T160000Z
DTSTAMP:20260424T231505Z
DTSTART:20240421T080000Z
LOCATION:Bhf. Berlin Wannsee\, Vorplatz (Kronprinzessinnenweg)\, 14109 Ber
 lin
SEQUENCE:0
SUMMARY:Wir feiern Baumblüte 1
UID:c0b620e5-681a-46f6-b521-74d9ccf6b741
URL:https://touren-termine.adfc.de/radveranstaltung/129922-wir-feiern-baum
 blute-1
END:VEVENT
END:VCALENDAR
