BEGIN:VCALENDAR
PRODID:-//github.com/rianjs/ical.net//NONSGML ical.net 4.0//EN
VERSION:2.0
BEGIN:VEVENT
DESCRIPTION:von KE Richtung Nordost nach Wildpoldsried zu den Stromerzeuge
 rn\, zum Elbsee u. durch den Kempter Wald. Startzeit wird bei Anmeldung m
 itgeteilt. Helmpflicht. Anmeldung bis 28.08.2024\nhttps://touren-termine.
 adfc.de/radveranstaltung/115503-ab-ke-tagestour-zu-windradernelbseekempte
 r-wald
DTEND;VALUE=DATE:20240831
DTSTAMP:20260425T152446Z
DTSTART;VALUE=DATE:20240831
LOCATION:Bhf. Kempten\, Parkplatz Eicher Straße\, 87435 Kempten (Allgäu)
SEQUENCE:0
SUMMARY:Ab KE: Tagestour zu Windrädern-Elbsee-Kempter Wald
UID:8b2de66d-49b7-4476-af23-ea25ac5945e6
URL:https://touren-termine.adfc.de/radveranstaltung/115503-ab-ke-tagestour
 -zu-windradernelbseekempter-wald
END:VEVENT
END:VCALENDAR
