BEGIN:VCALENDAR
PRODID:-//github.com/rianjs/ical.net//NONSGML ical.net 4.0//EN
VERSION:2.0
BEGIN:VEVENT
DESCRIPTION:Wir wollen uns eine Auswahl aus der Vielzahl der einzigartigen
  Krippen in Köln ansehen. Zu finden sind die Krippen in kulturellen und k
 irchlichen Gebäuden.\nhttps://touren-termine.adfc.de/radveranstaltung/139
 074-kolner-krippentour
DTEND:20241217T150000Z
DTSTAMP:20260421T121347Z
DTSTART:20241217T090000Z
LOCATION:Tannenbergstraße\, unter der Stelzenautobahn\, 51373 Leverkusen
SEQUENCE:0
SUMMARY:Kölner Krippentour
UID:e7d9c9da-882b-4ebb-8970-a3847aa5b4e4
URL:https://touren-termine.adfc.de/radveranstaltung/139074-kolner-krippent
 our
END:VEVENT
END:VCALENDAR
