BEGIN:VCALENDAR
PRODID:-//github.com/rianjs/ical.net//NONSGML ical.net 4.0//EN
VERSION:2.0
BEGIN:VEVENT
DESCRIPTION:Wir gründen am 22. Oktober die Ortsgruppe in Sauerlach.\nhttps
 ://touren-termine.adfc.de/radveranstaltung/139878-sauerlach-ortsgruppengr
 undung
DTEND:20241022T190000Z
DTSTAMP:20260421T103212Z
DTSTART:20241022T170000Z
LOCATION:Tegernseer Landstraße 2\, 82054 Landkreis München
SEQUENCE:0
SUMMARY:Sauerlach - Ortsgruppengründung
UID:19b5cf04-80c1-4166-b1b9-6d0de82a3878
URL:https://touren-termine.adfc.de/radveranstaltung/139878-sauerlach-ortsg
 ruppengrundung
END:VEVENT
END:VCALENDAR
