BEGIN:VCALENDAR
PRODID:-//github.com/rianjs/ical.net//NONSGML ical.net 4.0//EN
VERSION:2.0
BEGIN:VEVENT
DESCRIPTION:Treffen der OpenStreetMap-Community aus Essen & Umgebung.\n\n\
 nDiese Treffen sollen dazu dienen\, die Materie OSM näher zubringen\, als
  auch diverse OSM bezogene Sachen zu besprechen.\nhttps://touren-termine.
 adfc.de/radveranstaltung/190041-essener-openstreetmaptreffen-osm
DTEND:20260203T200000Z
DTSTAMP:20260421T115545Z
DTSTART:20260203T180000Z
LOCATION:Essen (Innenstadt)\, ADFC Essen Geschäftsstelle\, Rottstraße 5\, 
 45127 Essen
SEQUENCE:0
SUMMARY:Essener OpenStreetMap-Treffen (OSM)
UID:1e5ce8f0-05d2-44f2-a98d-19abee1a9416
URL:https://touren-termine.adfc.de/radveranstaltung/190041-essener-openstr
 eetmaptreffen-osm
END:VEVENT
END:VCALENDAR
