BEGIN:VCALENDAR
PRODID:-//github.com/rianjs/ical.net//NONSGML ical.net 4.0//EN
VERSION:2.0
BEGIN:VEVENT
DESCRIPTION:Trefft die FrauenFahrradSchule\, das Frauen*Netzwerk und fLott
 e auf dem Verkehrs – und Klimafest am 16.09.2023 - mit kostenlosem Upcycl
 ing-Workshop! Kontakt: 0157 58151409\, umweltfrauen@life-online.de\nhttps
 ://touren-termine.adfc.de/radveranstaltung/106841-verkehrs-klimafest-jvs-
 lichtenberg
DTEND:20230916T160000Z
DTSTAMP:20260424T045913Z
DTSTART:20230916T110000Z
LOCATION:Baikalstraße 4\, 10319 Berlin
SEQUENCE:0
SUMMARY:Verkehrs-& Klimafest JVS Lichtenberg
UID:5a30d42d-2609-48e2-9b44-15ee73f8a6d3
URL:https://touren-termine.adfc.de/radveranstaltung/106841-verkehrs-klimaf
 est-jvs-lichtenberg
END:VEVENT
END:VCALENDAR
